Workbook
Name Check15: #N/A
Name Check19: #N/A
Name Check20: #N/A
Name Check5: #N/A
Name Check6: #N/A

Sheet Cover
E1: HVO Project
E2: MAIN MECHANICAL INSTALLATION PACKAGE
E3: PIPING TEST PACKAGE
A5: COVER PAGE
A9: Client: | H9: GALP
A11: Contractor: | H11: TEN/TEE
A13: Subcontractor: | H13: MEIM
C17: GALP/TEN/TEE TEST PACK Nº: | G17: MP09PS7400-MEIM-H-TP0001A
C19: LINHA: | G19: O391W-OR-P-40036_01
C21: SUBSYSTEM | G21: VO FROM JETTY
C23: SUBSYSTEM CODE | G23: MP09PS7400
C25: REV. Nº: | G25: 0 | K25: Date:
C27: REF. INT.
C29: AREA | G29: OSBL
C35: HT | E35: HT / PT
E37: VT / ST

Sheet Table of Contents
E1: HVO PROJECT
E2: MAIN MECHANICAL INSTALLATION PACKAGE
E3: PIPING TEST PACKAGE
A5: TABLE OF CONTENTS
A7: MEIM TEST PACK Nº: | E7: =Cover!G17 -> MP09PS7400-MEIM-H-TP0001A
A8: Revision Nº: | E8: =Cover!G25 -> 0 | J8: Date: | L8: =Cover!M25 -> 0
B9: Nº | C9: DESCRIPTION OF FORM | K9: QCF/DOC. Ref. | N9: YES | O9: NO | P9: N/A
A10: Actions before the Hidraulic Test | B10: 1 | C10: Content Sheet
B11: 2 | C11: Control List Test Pack
B12: 3 | C12: Test Pack and Diagram P&ID "Last applicable revision"
B13: 4 | C13: Line List (Isometrics) "Last applicable revision" | K13: HT 02B
B14: 5 | C14: Isometrics Drawings (weld map) + Detail Drawing of special suports (if applicable) "Last applicable revision"
B15: 6 | C15: Standard Drawing for Support, or Special Pieces
B16: 7 | C16: NDT`s reports
B17: 8 | C17: Golden Weld Report | K17: W 53
B18: 9 | C18: PWHT reports
B19: 10 | C19: QCP Piping Pre Fabrication/ QCP Piping Erection
B20: 11 | C20: Pressure Test Check List | K20: HT 03/ W 51 T
B21: 12 | C21: Blind List | K21: BCS 01
B22: 13 | C22: Punch List | K22: PL 10
A23: Actions during the Hidraulic Test | B23: 14 | C23: Test Pressure Report | K23: W 13
B24: 15 | C24: Certificate Pressure Gauge Calibrated
B25: 16 | C25: Water Test Certificate
A26: Actions after the Hidraulic Test/Pre-commissioning | B26: 17 | C26: Piping/ Equipment Internal Cleaning | K26: IC 01
B27: 18 | C27: Piping Check List | K27: VE 01
B28: 19 | C28: Holiday Test | K28: W 18
B29: 20 | C29: Final aligment after Piping Pressure Test
B30: 21 | C30: Bolt Tightening Check Report | K30: BTC01
A31: Observations

Sheet 1-Content Sheet
D1: HVO PROJECT
D2: MAIN MECHANICAL INSTALLATION PACKAGE
D3: PIPING TEST PACKAGE
A5: TEST PACK APPROVAL SHEET
A7: MEIM TEST PACK Nº: | F7: =Cover!G17 -> MP09PS7400-MEIM-H-TP0001A
C8: Revision Nº: | F8: =Cover!G25 -> 0 | I8: Date: | K8: =Cover!M25 -> 0
D10: Test Type: | H10: Hydrotest
D12: Design Pressure: | H12: 16.9
D14: Test Pressure: | H14: 29.4
D16: Test Medium: | H16: Water
D23: Contractor | K23: DATE
D27: TEN/TEE | K27: DATE
D31: GALP / OWNER | K31: DATE
D35: NoBo | K35: DATE

Sheet 2-Control List Test Pack
B1: QUALITY CONTROL FORM
B4: Control List Test Pack
A5: PROJECT Nº: 204927C | F5: CONTRACT No: 705N
A6: CLIENT: GALP | F6: SUBCONTRACTOR: MEIM
A7: EQUIPMENT TYPE: | F7: BAR CODE:
A8: EQUIPMENT No:
A9: SYSTEM No: | B9: =Cover!G23 -> MP09PS7400 | F9: DESCRIPTION: Piping
A10: DRAWINGS REF.& DOCUMENTS: As per isometric/line list | F10: AREA: OSBL
A11: MANUFACTURER: N/A
A12: MODEL No: N/A | F12: SERIAL No: N/A
A13: END TEST DATE:
A14: The Contractor/Subcontractor hereby declare that the piping system as described above, is completed in accordance with the approved for construction drawings, quality procedures and project specifications. The acceptance report does not relieve the Contractor/Subcontractor of their obligations as laid down in the contractual conditions. All documents to support this statement are completed and approved and form part of this acceptance certificate if applicable.
A16: TEST PACKAGE No: | B16: =Cover!G17 -> MP09PS7400-MEIM-H-TP0001A | F16: TEST TYPE : | H16: Hydrotest
A17: TEST MEDIUM: | B17: Water | F17: HOLDING TIME : | H17: 60 min
A18: TEST PRESSURE: | B18: ='1-Content Sheet'!H14 -> 29.4
A19: DESCRIPTION | D19: CONTRACTOR | H19: TEN/TEE
D20: SIGN | F20: DATE | H20: SIGN | J20: DATE
A21: MATERIAL AND WELDING TRACEABILITY
A22: NDT + PWHT
A23: REVIEW OF TEST PACKAGE DOCUMENT'S
A24: LINE CHECK
A25: IDOM REVIEW :
A26: TEST PACKAGE VERIFIED | H26: With Punch List
A27: NAME | C27: SIGNATURE | H27: Without Punch List
A29: COMMENTS:
A32: REMARKS:
A35: WITNESSED/REVIEWED BY: | B35: Contractor | E35: TEN/TEE | G35: GALP | J35: NoBo
A36: SIGNATURE:
A37: PRINT NAME:
A38: DATE:

Sheet 4-HT02B-Line List
F1: PROJECT: HVO
F2: OWNER: GALP
A3: QUALITY CONTROL FORM HT 02B | F3: PROJ. No.: 204927C | H3: QCF REV. 00 | K3: SH. 1 OF 1
A4: TEST PACKAGE No: | C4: =Cover!G17 -> MP09PS7400-MEIM-H-TP0001A | F4: SUBCONTRACTOR: MEIM | K4: HT 02B N° __01__
A5: TRACER LINES INSTALLATION REPORT
A6: ITEM
A37: NOTES:
A42: INSPECTORS | B42: CONTRACTOR | D42: TEN/TEE | G42: Galp | J42: NoBo
A43: NAME
A44: SIGNATURE
A45: DATE

Sheet 8-W53-Golden Weld Report
O1: PROJECT: HVO
O2: OWNER: GALP
A3: QUALITY CONTROL FORM W 53 | O3: PROJ. No.: 204927C | U3: QCF REV. 00 | AA3: SH. 1 OF 1
A4: GOLDEN JOINT REPORT | O4: CONTRACTOR: MEIM | AA4: W 53 N° 01_____
A6: LINE / ISO Nr /Sh. Nr | C6: ___________________________ | P6: Reference W16 (see attached) | T6: GJ Nr _________ | AB6: WJ _________
A7: SYSTEM Nr. | C7: ___________________________ | P7: T PACKAGE Nr. | V7: ____________________________
A8: PRECOMMISSIONING | P8: Required | Q8: FALSE | X8: Not required | Z8: FALSE
A9: DONE & ACCEPTED | E9: _________________ | K9: ___________________________
E10: date | K10: CONTRACTOR | X10: OWNER
A11: TESTS TO BE CARRIED OUT
A12: 1 | B12: VT | I12: YES | J12: FALSE | Q12: NO | R12: FALSE | V12: Full time
A13: 2 | B13: RT | I13: YES | J13: FALSE | Q13: NO | R13: FALSE | V13: after welding completion
A14: 3 | B14: UT | I14: YES | J14: FALSE | Q14: NO | R14: FALSE | V14: after welding completion
A15: 4 | B15: PT/MT | I15: YES | J15: FALSE | Q15: NO | R15: FALSE | V15: on bevel before welding
A16: 5 | B16: PT/MT | I16: YES | J16: FALSE | Q16: NO | R16: FALSE | V16: on 2nd pass
A17: 6 | B17: PT/MT | I17: YES | J17: FALSE | Q17: NO | R17: FALSE | V17: after welding completion
A18: 7 | B18: PMI | I18: YES | J18: FALSE | Q18: NO | R18: FALSE | V18: on filler metal
A19: 8 | B19: PMI | I19: YES | J19: FALSE | Q19: NO | R19: FALSE | V19: on welding metal
A20: 9 | B20: PWHT | I20: YES | J20: FALSE | Q20: NO | R20: FALSE | V20: after welding completion
A21: 10 | B21: Hardness Test | I21: YES | J21: FALSE | Q21: NO | R21: FALSE | V21: after welding completion
A22: DATA TO BE MONITORED
B24: WPS:__________ | I24: Preheat:_______oC | R24: Postheat:_______oC | Y24: PWHT:_____oC/ h____
B25: Material:___________ | I25: THK: _________ | R25: File Nr: __________
B26: Material:___________ | I26: THK: _________ | R26: File Nr: __________
A28: IN-PROCESS INSPECTIONS/MONITORING
B29: Date:________ | G29: Starting time: __________ | S29: Welder Identification:____________
B31: PT/MT | I31: ACC | Q31: REJ | V31: on bevel before welding
B32: Joint Preparation | I32: ACC | Q32: REJ | V32: cleanliness
B33: Fit-up: | I33: ACC | Q33: REJ | V33: Internal alignment, gap
V34: on 2nd pass
B35: Amp | F35: Volt | M35: Speed | V35: Heat Input (2)
B36: Preheat:_______ | I36: ACC | Q36: REJ
B37: Amp | F37: Volt | M37: Speed | V37: Heat Input (3)
B38: Postheat:_______oC | I38: ACC | Q38: REJ
B39: PT/MT | I39: ACC | Q39: REJ | V39: after welding completion
B40: Hardness Test | I40: ACC | Q40: REJ | V40: after welding completion
A42: NOTES: (1) SAME LINE/ISO NUMBER | H42: REMARKS:
A43: (2) (before 10mm of thk) | H43: 1- See attached the NDE reports
A44: (3) (between 10 & 20mm of thk)
A46: INSPECTORS | D46: CONTRACTOR | J46: TEN/TEE | S46: Galp | X46: NoBo
A47: NAME
A48: SIGNATURE
A49: DATE

Sheet 11-HT03-Pressure Test Summary 
H1: PROJECT: HVO
H2: OWNER: GALP
H3: TEST PACKAGE No: | K3: =Cover!G17 -> MP09PS7400-MEIM-H-TP0001A
A4: QUALITY CONTROL FORM HT 03 | H4: PROJ. No.: 204927C | L4: QCF REV. 00 | O4: SH. 1 OF 1
A5: PRESSURE TEST SUMMARY REPORT | H5: SUBCONTRACTOR: MEIM | O5: HT 03 N° 01____
A6: INSPECTIONS | F6: N.A. | G6: ACC | J6: REMARKS/ REFERENCES | K6: INSPECTORS SIGNATURE & DATE
A7: (REF. TO QCP 1330.01) | K7: SUBCONTR. | N7: CONTRACTOR | P7: OWNER
A8: C.5 | C8: PRESSURE TEST
A9: C.5.1 | C9: TEST PACK CREATION
A10: C.5.2 | C10: PUNCH LIST BEFORE PRESSURE TEST | J10: PL 10 (*)
A11: C.5.3 | C11: DIMENSIONAL CHECK | J11: W 14A (*)
A12: C.5.4 | C12: TEST PREPARATION (INCLUDING TESTING | J12: W 13 (*)
C13: EQUIPMENT) & PRESSURE TEST EXECUTION
A14: C.5.5 | C14: WORK ACCEPTANCE OF “PUNCH LIST AFTER PRESSURE TEST” (LINE REINSTATEMENT) | J14: W 14B (*)
A15: NOTES: (*) THE QC REPORTS N° SHALL BE INDICATED IN THE RELEVANT HERE BELOW SPACES :
A16: PL10 N°_______ W14A N°______ W14B N°______ W13 N°______
A68: C.5.6 - FINAL DOC. REVIEW | B68: INSPECTORS | D68: Contractor | G68: TEN/TEE | K68: Galp | N68: NoBo
B69: NAME
B70: SIGNATURE
B71: DATE

Sheet 11-W51T-Pressure Test Prep
H1: PROJECT: HVO
H2: OWNER: GALP
A3: QUALITY CONTROL FORM W 51T | H3: PROJ. No.: 204927C
A4: PRESSURE TEST PREPARATION / EXECUTION (PER TESTING CIRCUIT) SUMMARY REPORT | H4: SUBCONTRACTOR: MEIM
A6: TEST CIRCUIT N° | D6: =Cover!G17 -> MP09PS7400-MEIM-H-TP0001A | K6: SYSTEM N° | M6: =Cover!G23 -> MP09PS7400
A7: LINES / ISOs N° | D7: O380R-OR-P-40006_01
A8: ________________________________________________________________________________
A9: ________________________________________________________________________________
A11: INSPECTIONS | F11: N.A. | G11: ACC. | I11: REMARKS/ REFERENCES | K11: INSPECTORS SIGNATURE & DATE
A12: (REF. TO QCP 1320.01) | K12: Contractor | M12: TEN/TEE | N12: Galp
A13: E.1 | B13: TEST PACK CREATION
A14: E.2 | B14: PUNCH LIST BEFORE PRESSURE TEST | I14: PL 10
A15: E.3 | B15: NDE VERIFICATION | I15: WHS
B16: (Check of relative QCF WHS)
A17: E.4 | B17: DIMENSIONAL CHECK | I17: W 14A (*)
A18: E.5 | B18: PUNCH “A” CLEARANCE AND RELEASE FOR TEST | I18: PL 10
A19: E.6 | B19: INTERNAL CLEANLINESS VERIFICATION
B20: (Check of relative QCF IC01 issued for spools/ISO)
A21: E.7 | B21: BLIND FLANGES INSTALLATION | I21: BCS 01
A22: E.8 | B22: TEST PREPARATION (INCLUDING TEST EQUIPMENT) | I22: W 13
A23: E.9 | B23: PRESSURE TEST EXECUTION AND RESULT | I23: W 13
A24: E.10 | B24: WATER DRY-OUT EXECUTION | I24: LU 01 (**)
A25: E.11 | B25: BLIND FLANGES REMOVAL | I25: BCS 01
A26: E.12 | B26: WORK ACCEPTANCE OF “PUNCH LIST AFTER PRESSURE TEST” (LINE REINSTATEMENT) | I26: W 14B
A27: NOTES: (*) W 14A HAVE THE SAME N° OF THE TEST CIRCUIT
A29: (**) THE QC REPORTS N° SHALL BE INDICATED IN THE RELEVANT HERE BELOW SPACES :
A30: PL 10 N°______ W 14A N°_____ W 14B N°_____ BC 01 N°_____ W 13 N°_____ LU 01 N°______
A67: E.13) FINAL DOC. REVIEW | B67: INSPECTORS | D67: Contractor | G67: TEN/TEE | J67: Galp | M67: NoBo
B68: NAME
B69: SIGNATURE
B70: DATE

Sheet 12-BCS01-Blind List
M1: PROJECT: HVO
M2: OWNER : GALP
M3: TEST PACKAGE No: | P3: =Cover!G17 -> MP09PS7400-MEIM-H-TP0001A
A4: QUALITY CONTROL FORM BCS 01 | M4: PROJ. No.: 204927C | P4: QCF REV. 00 | S4: SH. 1 OF 1
A5: BLIND CONTROL SHEET | M5: SUBCONTRACTOR: MEIM | S5: BCS 01 N° 01 ________
A6: No. | B6: Drawing / Line No. | C6: Blind No. | E6: Size | F6: Rating | H6: Blind Thickness | J6: Gasket | L6: Inserted | P6: Removed | U6: Remarks
L7: Subontractor | N7: Contractor | O7: Owner | P7: Subontractor | R7: Contractor | T7: Owner
H8: Required | I8: Actual | L8: Name / Date | N8: Name / Date | O8: Name / Date | P8: Name / Date | R8: Name / Date | T8: Name / Date
A9: 1 | B9: O391W-OR-P-40036_02 | C9: TB1 | E9: 3/4 | F9: 150# | J9: C1X2K194
A10: 2 | B10: O391W-OR-P-40036_02 | C10: TB2 | E10: 24 | F10: 150# | J10: C1Y2ZCA2
A11: 3 | B11: O391W-OR-P-40036_02 | C11: TB3 | E11: 3/4 | F11: 150# | J11: C1X2K194
A12: 4 | B12: O391W-OR-P-40036_02 | C12: TB4 | E12: 3/4 | F12: 150# | J12: C1X2K194
A13: 5 | B13: O391W-OR-P-40036_02 | C13: TB5 | E13: 3/4 | F13: 150# | J13: C1X2K194
A14: 6 | B14: O391W-OR-P-40036_02 | C14: TB6 | E14: 3/4 | F14: 150# | J14: C1X2K194
A15: 7 | B15: O391W-OR-P-40036_02 | C15: TB7 | E15: 3/4 | F15: 150# | J15: C1X2K194
A16: 8 | B16: O391W-OR-P-40036_02 | C16: TB8 | E16: 3/4 | F16: 150# | J16: C1X2K194
A17: 9 | B17: O391W-OR-P-40036_02 | C17: TB9 | E17: 3/4 | F17: 150# | J17: C1X2K194
A18: 10 | B18: O391W-OR-P-40036_02 | C18: TB10 | E18: 3/4 | F18: 150# | J18: C1X2K194
A19: 11 | B19: O391W-OR-P-40036_02 | C19: TB11 | E19: 3/4 | F19: 150# | J19: C1X2K194
A20: 12 | B20: O391W-OR-P-40036_02 | C20: TB12 | E20: 3/4 | F20: 150# | J20: C1X2K194
... A35: 27 | B35: O391W-OR-P-40036_01 | C35: TB27 | E35: 20 | F35: 150# | J35: C1Y2ZCA0
A36: 28
A37: 29
A38: 30
A39: 31
A40: 32
A41: 33
A42: 34
A43: NOTES:
A46: INSPECTORS | C46: Contractor | H46: TEN/TEE | M46: Galp | R46: NoBo
A47: NAME
A48: SIGNATURE
A49: DATE

Sheet 13-PL10-Punch List
F2: PUNCH LIST GALP HVO
B3: QUALITY CONTROL FORM | F3: PL10 | G3: PROJECT: | H3: 204927C | L3: OWNER: | O3: GALP | R3: SUBCONTRACTOR: | U3: MEIM (MEISA-IMASA)
B4: SYSTEM/SUB-SYSTEM Nº: | G4: TEST PACK Nº: | H4: =Cover!G17 -> MP09PS7400-MEIM-H-TP0001A | R4: DATE UPDATED:
B5: Category (1) | G5: Discipline (2) | U5: Action By (3)
B6: A - To be rectified prior to release for construction test | G6: 01 - Civil / UG Piping | I6: 04 - Mechanical Equpm. | M6: 07 - Instrumentation | Q6: 10 - Fireproofing | U6: ENG - Engineering | X6: QAC - QA/QC
B7: B - To be resolved before Mechanical Completion (MC) status | G7: 02 - Buildings / HVAC | I7: 05 - Piping | M7: 08 - Insulation | Q7: 11 - As-Built | U7: CON - Construction | X7: OTH - Others
B8: C - To be resolved after MC but before Final Acceptance | G8: 03 - Steel Structure | I8: 06 - Electrical | M8: 09 - Painting | Q8: 12 - Access | U8: PRE - Precommissioning
B9: Item No | C9: Unit | D9: TP, Equ.,Mot., Loop,... Nº | E9: Equipm./Line/ | F9: Punch item Description | H9: Category | I9: Discipline | J9: Originator | L9: Issue Date | M9: Action by | O9: Expected Closure Date | P9: Closure Date | Q9: Closure Vertified | S9: Closure Vertified | U9: Closure Vertified | W9: Comments / References | Y9: Punch Status
E10: Instrument/... Nº | H10: (1) | I10: (2) | M10: (3) | Q10: Subcontractor | S10: TEN/TEE | U10: GALP | W10: (If any)
J11: Name | K11: Company | M11: Department | N11: Organization | Q11: Date | R11: Sign | S11: Date | T11: Sign | U11: Date | V11: Sign
B12: 1
B13: 2
B14: 3
B15: 4
B16: 5
B17: 6
B18: 7
B19: 8
B20: 9
B21: 10
B22: 11
B23: 12
... B26: 15
B27: NOTES:
B28: 1) Category A:To be resolved before hydrotest B: To be resolved after hydrotest
B29: 2) Discipline P: Piping M: Mechanical I: Instrument PA: Painting C: Civil O: Other
B30: INSPECTORS | D30: Contractor | G30: TEN/TEE | L30: Galp | S30: NoBo
B31: NAME
B32: SIGNATURE
B33: DATE

Sheet 14-W13-Test Pressure Report
I1: PROJECT: HVO
I2: COMPANY: GALP
A3: QUALITY CONTROL FORM W 13 | I3: PROJ. No.: 204927C | L3: QCF REV. 00 | P3: SH. 1 OF 1
A4: PIPING PRESSURE TEST REPORT | I4: C.CONTRACTOR: MEIM | P4: W 13(1) N° 01____
A5: PNEUMATIC TEST | F5: LINES LIST
A6: HYDRAULIC TEST | D6: X
A7: LEAK TEST | F7: LINE / ISO N° | J7: SHEET | K7: REV. | M7: AREA | O7: P&ID
A8: SERVICE TEST | J8: N°
F9: O380R-3-NI-AC-40002-AA3D-NT_01 | J9: 01 | K9: 2.0.M1 | M9: OSBL | O9: RS-AC-00020-003
A10: TEST MEDIUM: | F10: O380R-3-NI-AC-40002-AA3D-NT_01 | J10: 02 | K10: 2.0.M1 | M10: OSBL | O10: RS-AC-00020-003
A11: NORMAL WATER | D11: X | F11: O380R-3-NI-AC-40002-AA3D-NT_01 | J11: 03 | K11: 2.0.M1 | M11: OSBL | O11: RS-AC-00020-003
A12: SPECIAL WATER (Cl __ ppm max) | F12: O380R-3-NI-AC-40002-AA3D-NT_01 | J12: 04 | K12: 2.0.M1 | M12: OSBL | O12: RS-AC-00020-003
A13: OTHER ____________ | F13: O380R-3-NI-AC-40002-AA3D-NT_01 | J13: 05 | K13: 2.0.M1 | M13: OSBL | O13: RS-AC-00020-003
A15: INHIBITOR: | C15: NO
A16: FILTRATION: | C16: NO
A18: TEST CIRCUIT N° | B18: =Cover!G17 -> MP09PS7400-MEIM-H-TP0001A
A19: SYSTEM N° | B19: =Cover!G23 -> MP09PS7400
A20: TEST PRESSURE | B20: 6.9 barg
A21: TEST TEMPERATURE ___________ °c
A22: TEST PRESS. START ______________
A23: TEST PRESS. FINISH ______________
A24: TEST PRESS. DURATION ___60 min________
A25: PRESSURE GAUGE (IDENTIF.) ______
A26: ……………………………………………….
A27: ……………………………………………….
A28: ……………………………………………….
A69: TEST AUTHORIZATION YES
H70: CONTRACTOR DATE & SIGNATURE
A71: TEST RESULT: ACCEPTED | H71: REMARKS: (1) SAME TEST CIRCUIT NUMBER
A72: INSPECTORS | B72: Contractor | F72: TEN/TEE | J72: Galp | M72: NoBo
A73: NAME
A74: SIGNATURE
A75: DATE

Sheet 17-IC01-Internal Cleaning
K1: PROJECT: HVO
K2: OWNER: GALP
A3: QUALITY CONTROL FORM IC 01 | K3: PROJ. No.: 204297C | O3: SH. 1 OF 1
A4: PIPING / EQUIPMENT INTERNAL CLEANING INSPECTION | K4: SUBCONTRACTOR: MEIM | O4: IC 01 N° 01
A6: EQUIPMENT ID N° | D6: ________________________ | H6: EQUIPMENT DESCRIPTION | M6: ________________________
A7: P&ID / LINE / ISO N° | L7: SH. N° | M7: 01
A8: TEST SYSTEM No. | D8: =Cover!G17 -> MP09PS7400-MEIM-H-TP0001A | L8: LOCATION | M8: OSBL
B10: SYSTEM DESCRIPTION:
B11: Service Fluid: ______P_________
B12: Internal Cleanliness Report for On-plot Piping & Equipment
B13: Method of Internal Cleaning
B14: Limits of Internal Cleaning (state partial or full and terminating ends)
B15: Type of Debris (sand, mill scale, electrodes, animals, etc.)
A17: REMARKS:
A72: INSPECTORS | C72: Contractor | G72: TEN/TEE | J72: Galp | N72: NoBo
A73: NAME
A74: SIGNATURE
A75: DATE

Sheet 18-VE01-Piping Check List
F1: PROJECT: HVO
F3: OWNER: GALP
A5: QUALITY CONTROL FORM VE 01 | F5: PROJ. No.: 204927C | H5: QCF REV. 00 | K5: SH. 1 OF 1
A6: CONTROL & SAFETY VALVE AND IN-LINE INSTRUMENTS ERECTION – SUMMARY REPORT
F7: SUBCONTRACTOR: MEIM | K7: VE 01 N° 01
A8: TEST PACK Nº: | C8: =Cover!G17 -> MP09PS7400-MEIM-H-TP0001A
A9: ISOMETRIC / DRAWING N° SH. OF REV.
A10: AREA OSBL | F10: EQUIPMENT ID N° N/A
A11: EQUIPMENT DESCRIPTION | F11: EQUIPMENT CODE N/A
A12: INSPECTIONS (REF. TO QCP 1320.01) | F12: REMARKS/ REFERENCES | G12: INSPECTORS SIGNATURE & DATE
D13: N.A. | E13: ACC. | G13: SUBCONTR. | J13: CONTRACTOR | L13: OWNER
A14: G.1 | B14: MATERIAL AVAILABLE AT SITE
A15: G.2 | B15: CHECK REPORT OF VISUAL INSPECTION / CALIBRATION
A17: G.3 | B17: VALVE/INSTRUMENT INSTALLATION
A18: G.4 | B18: VALVE/INSTRUMENT DISMANTLING
A19: G.5 | B19: FLANGE FACES INSPECTION, PARALLELISM/ALIGNMENT, GASKET INSTALLATION & BOLT TIGHTENING EXECUTION
A20: NOTES:
A60: G.5) FINAL DOC. REVIEW | B60: INSPECTORS | C60: Contractor | F60: TEN/TEE | I60: Galp | L60: NoBo
B61: NAME
B62: SIGNATURE
B63: DATE

Sheet 19-W18-Holiday Test
I1: PROJECT: HVO
I2: COMPANY: GALP
A3: QUALITY CONTROL FORM W 18 | I3: PROJ. No.: 204927C | P3: QCF REV. 00 | U3: SH. 1 OF 1
A4: HOLIDAY DETECTOR TEST | I4: C.CONTRACTOR: MEIM | U4: W 18 N° 01____
A5: TEST PACK Nº: | C5: =Cover!G17 -> MP09PS7400-MEIM-H-TP0001A
A6: SERVICE | B6: ___________________ | E6: VOLTAGE | G6: __________________ | P6: DATE: | T6: ______________
A8: LINE / ISO No. | J8: SH. No. | L8: AREA / ZONE | O8: FROM | R8: TO | V8: NOTES
A41: TEST RESULT:
A43: INSPECTORS | C43: Contractor | H43: TEN/TEE | M43: Galp | R43: NoBo
A44: NAME
A45: SIGNATURE
A46: DATE

Sheet 20- Final aligment after Pressu
B1: QUALITY CONTROL FORM
B4: REINSTATEMENT CHECK LIST
A5: PROJECT Nº: HVO | G5: CONTRACT No:
A6: CLIENT: GALP | G6: SUBCONTRACTOR: MEIM
A7: EQUIPMENT TYPE: Piping | G7: BAR CODE:N/A
A8: EQUIPMENT No: N/A
A9: SYSTEM No:N/A | B9: =Cover!G17 -> MP09PS7400-MEIM-H-TP0001A | G9: DESCRIPTION: Piping
A10: DRAWINGS REF.& DOCUMENTS: As per isometric/line lists | G10: SITE No / LOCALIZATION: OSBL
A11: MANUFACTURER:N/A
A12: MODEL No:N/A | G12: SERIAL No: N/A
A13: END TEST DATE:
A14: This certificate does not exempt the Subcontractor from the terms of the contract, project specifications or quality procedures but confirms that all these tests where done under project specifications.
A16: TEST PACKAGE No. : | B16: MP05-PS-6400-MEIM-HT-TP001
A17: SL. | B17: A-ITEMS / ACTIVITIES TO BE INSPECTED U/G | G17: EVALUATION | I17: REMARKS
G18: MEIM | H18: TEN/TEE
A19: 1 | B19: Check that end caps and test blinds are removed
A20: 2 | B20: Check that pressure gauges and isolation valves are removed
A21: 3 | B21: Check that all piping equipment and components are in place
A22: 4 | B22: Check the penetration through - concrete at manhole, valve pit, flange fit is as per approved drawings and finally sealed
A23: 5 | B23: Check for pipe elevation as per isometric drawings
A24: 6 | B24: Check and confirm flushing completed
A25: SL. | B25: B - ITEMS / ACTIVITIES TO BE INSPECTED A/G | G25: EVALUATION | I25: REMARKS
G26: MEIM | H26: TEN/TEE
A27: 1 | B27: Check that end caps and test blinds are removed
A28: 2 | B28: Check that pressure gauges and isolation valves are removed
A29: 3 | B29: Check that permanent support are installed & temporary supports are removed
A30: 4 | B30: Check that correct M.O.V,s are installed & handle orientation and flow direction are correct
A31: 5 | B31: Check that items to be installed after test (category B) before pre-commissioning are in place
A32: 6 | B32: Check and confirm flushing and drying completed
A33: 7 | B33: Test System reinstated in accordance with the latest revison of Isometric and P&ID
A34: 8 | B34: Correct bolts and gasket are installed at all mechanical joints
A35: 9 | B35: Flushing, Hydrostatic testing and drying has been completed and documented
A36: 10 | B36: All process blind, spectacle blinds and spades are correctly installed as indicated on P&ID
A37: 11 | B37: Flow direction correct for all strainers, steam traps, check valves, controls valves and globe valves
A38: 12 | B38: All valves function correctly and all spindles have been lubricated.
... A45: 19 | B45: Weep holes plugged with grease for reinforcement pad
A46: COMMENTS:
A49: REMARKS:
A52: WITNESSED/REVIEWED BY: | C52: Contractor | F52: TEN/TEE | H52: Galp | J52: NoBo
A53: SIGNATURE:
A54: PRINT NAME:
A55: DATE:

Sheet 21-BTC01-Bolt 1-2
E1: PROJECT: HVO
E2: OWNER: GALP
A3: QUALITY CONTROL FORM BTC 01 | E3: PROJ. No.: | F3: QCF REV. | G3: SH. 1 OF 2
A4: BOLT TIGHTENING CHECK REPORT | E4: SUBCONTRACTOR: | G4: BTC 01 N° 01
A5: JOINT ID | B5: SYSTEM NUMBER | C5: =Cover!G17 -> MP09PS7400-MEIM-H-TP0001A | E5: FLUID SERVICE PROCESS Fatty Water
B6: AREA OSBL | E6: TEMPERATURE SERVICE 50ºC
B7: LINE CLASS AA5 | E7: FLANGED JOINT NUMBER 1
B8: PIPE WALL THICK./PIPE SCH. | E8: TARGET TORQUE VALUE (Nm)
B9: Pressure rating of mating flanges conforms with the line specification noted in piping. | C9: N.A. | D9: V.ED | E9: The gasket contact areas of the flanges are not coated (to ensure proper contact surface for sealing purpose). | H9: N.A. | I9: V.ED
B10: The flange facing, particularly the seating area, is clean and no damage (such as scratches) in excess. | C10: N.A. | D10: V.ED | H10: N.A. | I10: V.ED
A12: TORQU. EQUIP. | B12: Torque Tool Type: | E12: Pump/Gauge Serial Number:
B13: Torque Tool Serial No's: | E13: Pump Pressure Target (bar)
A14: FLANGE ALIGNEMENT | B14: Flange Material: | E14: Joint rating:
B15: Joint Size (inch):
B16: Flange alignment (pipe to pipe) tolerances | C16: N.A. | D16: V.ED | E16: Alignment for flanges over 3-inch NPS connected to machinery/equipment is | H16: N.A. | I16: V.ED
B18: Rotation of flanges, measured as the offset between elevations of bolt holes on opposite sides of a flange centerline, shall not exceed ± 2.4 mm | E18: Vertical bolt hole offset: ± 2.4 mm
B20: The tilt of a flange measured at the periphery across any diameter shall not exceed 1.6 mm | E20: Horizontal bolt hole offset: ± 2.4 mm
B22: Alignment of Flange Joints with spectacle plate is within the following tolerances | C22: N.A. | D22: V.ED | E22: Rotational offset: ± 2.4 mm
B24: Vertical bolt hole offset: ± (2.4 mm + 30%) = ± 3.12mm | E24: Flange face tilt across diameter: 0.025mm per 25 mm (0.001 inch per inch) of flange outside diameter up to a maximum of 0.672 mm (0.030 inch), and 0.254mm (0.010 inch) for all flanges with an outside diameter less than 10 inches.
B27: Horizontal bolt hole offset: ± (2.4 mm + 30%) = ± 3.12mm | E27: Flange face separation: gasket thickness ± 1.6 mm
B29: Rotational offset: ± (2.4 mm + 30%) = ± 3.12mm | E29: Combination of vertical, horizontal and rotational offset: ± 3.2 mm
B31: Combination of vertical, horizontal and rotational offset: ± 3.2 mm
A32: BOLTING | B32: Bolt Material: | E32: Bolt Qty:
B33: Bolt Dia (inch): | E33: Lubricated Bolt | H33: YES | I33: NO
B34: Bolts and nuts have no physical damage to shanks or threads. | C34: N.A. | D34: V.ED | E34: Bolt and nut materials are verified to conform with the approved material. | H34: N.A. | I34: V.ED
B35: Stud bolts and nuts have identification markings and verified to be suitable to the service temperature | C35: N.A. | D35: V.ED | E35: Bolt Length: Bolts extend completely through their nuts (full thread engagement.).(NOTE: Thread engagement is adequate if the lack of complete engagement is not more than one thread) (ASME B31.3, Para. 335.2.3)
H36: N.A. | I36: V.ED

Sheet 21-BTC01-Bolt 2-2
H1: PROJECT: HVO
H2: OWNER: Galp
A3: QUALITY CONTROL FORM | E3: BTC 01 | H3: PROJ. No.: | K3: QCF REV. | N3: SH. 2 OF 2
A4: TEST PACK Nº: | D4: ='21-BTC01-Bolt 1-2'!C5 -> MP09PS7400-MEIM-H-TP0001A
A5: BOLT TIGHTENING CHECK REPORT | H5: SUBCONTRACTOR: MEIM | N5: BTC 01 N°
A6: GASKET VERIFICATION | B6: Gasket Type: (e.g. Spiral wound) | F6: YES | G6: NO | I6: Is the gasket outer ring visual check acceptable? | P6: YES | Q6: NO
B7: Gasket type was verified to be compatible with the flange facing | F7: N.A. | G7: V.ED | I7: The spiral wound gasket has the filler flush with the metal windings, not below the metal windings. (ASME B16.20, Para. 3.2.2) | P7: N.A. | Q7: V.ED
B8: Gaskets are free from any damage particularly in the seating element. (NOTE: Ensure that spiral wound gaskets are stored flat especially for large sizes, 24 inches and larger.) | F8: N.A. | G8: V.ED | I8: All spiral-wound gaskets are furnished with a centering ring. | P8: N.A. | Q8: V.ED
B11: PIKOTEK gaskets, or approved equal, with isolating sleeves and washers are used for isolating dissimilar metal flanged joints (i.e. electrical isolation), and insulating joints for cathodic protection. | F11: N.A. | G11: V.ED | I11: Inner rings are provided on all spiral-wound gaskets having PTFE (polytetra- fluoroethylene) filler material. | P11: N.A. | Q11: V.ED
B14: Not more than one gasket is used between mating surfaces of flanges. | F14: N.A. | G14: V.ED | I14: Spiral Wound gasket for use in operating temperatures below minus 45°C has guide rings made of type 304 stainless steel material. | P14: N.A. | Q14: V.ED
B15: The ring gaskets have the following identification: a. manufacturer's name or identification trademark. b. gasket number prefixed by the letters R, RX, or BX followed by the gasket material identification c. The gasket is marked with an ASME B 16.20 designation. | F15: N.A. | G15: V.ED | I15: Components of spiral wound gasket (filler, inner and outer rings) are verified to conform with the gasket material | P15: N.A. | Q15: V.ED
B19: The dimension of the ring-joint gasket indicated by letter designation (R, RX, or BX) stamped on the ring gasket was verified to conform with the flange size and flange standard where it will be used. | F19: N.A. | G19: V.ED | I19: Spiral-wound gaskets are marked with a color code. | P19: N.A. | Q19: V.ED
B22: The identification markings on the spiral wound gaskets (flange size (NPS), pressure class and the appropriate flange standard (ASME B16.5 or ASME B16.47) were verified to conform with the flange size and flange standard and as specified in the IFC Drawing. | F22: N.A. | G22: V.ED | I22: The spiral wound gasket has the filler flush with the metal windings, not below the metal windings. (ASME B16.20, Para. 3.2.2) | P22: N.A. | Q22: V.ED
A25: FINAL ALIGNMENT | B25: Point 1 _______ _mm Point 2_________mm Point 3________ mm Point 4_________mm | J25: Parallelism Gap Size (mm round off to the 2nd decimal) | P25: ACC. | Q25: NO ACC.
I27: i North (1)
I29: - East (2)
I31: l South (3)
B33: ID N° Performer | I33: � West (4)
I35: -! | J35: 1/2” to 6” = max 0,8 mm 14” to 24” = max 1,2 mm | M35: 8” to 12” = max 1 mm > 24” = max 1,4 mm
A37: JOINT STATUS | B37: TIGHTENING VALUE (Nm) | I37: PUMP PRESSURE (barg)
B38: TORQUE 30% | D38: TORQUE 60% | E38: TORQUE 100% | I38: TORQUE 30% | K38: TORQUE 60% | O38: TORQUE 100%
B40: REMARKS:
A41: INSPECTORS | C41: Contractor | F41: TEN/TEE | J41: Galp | N41: NoBo
A42: NAME
A43: SIGNATURE
A44: DATE
